BEGIN:VCALENDAR
VERSION:2.0
PRODID:-//ChamberMaster//Event Calendar 2.0//EN
METHOD:PUBLISH
X-PUBLISHED-TTL:P3D
REFRESH-INTERVAL:P3D
CALSCALE:GREGORIAN
BEGIN:VEVENT
DTSTART:20100610T223000Z
DTEND:20100611T003000Z
X-MICROSOFT-CDO-ALLDAYEVENT:FALSE
SUMMARY:Mazda of Mesquite Grand Opening
DESCRIPTION:
X-ALT-DESC;FMTTYPE=text/html:
LOCATION:Mazda of Mesquite
UID:e.2096.797
SEQUENCE:3
DTSTAMP:20260423T094513Z
URL:https://network.garlandchamber.com/events/details/mazda-of-mesquite-grand-opening-06-10-2010-797
END:VEVENT

END:VCALENDAR
