BEGIN:VCALENDAR
VERSION:2.0
PRODID:-//ChamberMaster//Event Calendar 2.0//EN
METHOD:PUBLISH
X-PUBLISHED-TTL:P3D
REFRESH-INTERVAL:P3D
CALSCALE:GREGORIAN
BEGIN:VEVENT
DTSTART:20110628T170000Z
DTEND:20110628T180000Z
X-MICROSOFT-CDO-ALLDAYEVENT:FALSE
SUMMARY:Membership Connections
DESCRIPTION:
X-ALT-DESC;FMTTYPE=text/html:
LOCATION:Painting with a Twist
UID:e.2096.894
SEQUENCE:3
DTSTAMP:20260422T175518Z
URL:https://network.garlandchamber.com/events/details/membership-connections-06-28-2011-894
END:VEVENT

END:VCALENDAR
