BEGIN:VCALENDAR
VERSION:2.0
PRODID:-//ChamberMaster//Event Calendar 2.0//EN
METHOD:PUBLISH
X-PUBLISHED-TTL:P3D
REFRESH-INTERVAL:P3D
CALSCALE:GREGORIAN
BEGIN:VEVENT
DTSTART:20120801T050000Z
DTEND:20120801T050000Z
X-MICROSOFT-CDO-ALLDAYEVENT:FALSE
SUMMARY:Membership Directory Roll Out Luncheon for Advertisers 2013
DESCRIPTION:Membership Directory Roll Out Luncheon for Advertisers 2013
X-ALT-DESC;FMTTYPE=text/html:Membership Directory Roll Out Luncheon for Advertisers 2013
LOCATION:
UID:e.2096.2464
SEQUENCE:3
DTSTAMP:20260421T220835Z
URL:https://network.garlandchamber.com/events/details/membership-directory-roll-out-luncheon-for-advertisers-2013-08-01-2012-2464
END:VEVENT

END:VCALENDAR
