BEGIN:VCALENDAR
VERSION:2.0
PRODID:-//ChamberMaster//Event Calendar 2.0//EN
METHOD:PUBLISH
X-PUBLISHED-TTL:P3D
REFRESH-INTERVAL:P3D
CALSCALE:GREGORIAN
BEGIN:VEVENT
DTSTART:20120809T220000Z
DTEND:20120809T233000Z
X-MICROSOFT-CDO-ALLDAYEVENT:FALSE
SUMMARY:Memory Changes As We Age: What's Normal and What's Not
DESCRIPTION:Autumn Leaves of Richardson/N. Garland presents: Memory Changes As We Age: What's Normal and What's Not?Presented by: Barbara Davis\, M.A.\, L.P.C. with Memory Research Unit\, UT Soutwestern Refreshments provided. See the Event Flyer
X-ALT-DESC;FMTTYPE=text/html:<DIV style="FONT-FAMILY: Arial">Autumn Leaves of Richardson/N. Garland presents:</DIV><DIV style="FONT-FAMILY: Arial">&nbsp\;</DIV><DIV style="FONT-FAMILY: Arial">Memory Changes As We Age: What's Normal and What's Not?</DIV><DIV style="FONT-FAMILY: Arial">Presented by: Barbara Davis\, M.A.\, L.P.C. with Memory Research Unit\, UT Soutwestern</DIV><DIV style="FONT-FAMILY: Arial">&nbsp\;</DIV><DIV style="FONT-FAMILY: Arial">Refreshments provided.</DIV><DIV style="FONT-FAMILY: Arial">&nbsp\;</DIV><DIV style="FONT-FAMILY: Arial"><A dataFld=0:0 href="http://www.garlandchamber.com/images/stories/chamber/Member%20Promotions/ALGarlandMemCareResid%20Talks-July13andAug9.pdf">See the Event Flyer</A></DIV>
LOCATION:Autumn Leaves of Richardson/N. Garland Memory Care Residence
UID:e.2096.1066
SEQUENCE:3
DTSTAMP:20260421T204446Z
URL:https://network.garlandchamber.com/events/details/memory-changes-as-we-age-what-s-normal-and-what-s-not-08-09-2012-1066
END:VEVENT

END:VCALENDAR
