BEGIN:VCALENDAR
VERSION:2.0
PRODID:-//ChamberMaster//Event Calendar 2.0//EN
METHOD:PUBLISH
X-PUBLISHED-TTL:P3D
REFRESH-INTERVAL:P3D
CALSCALE:GREGORIAN
BEGIN:VEVENT
DTSTART:20130426T050000Z
DTEND:20130426T050000Z
X-MICROSOFT-CDO-ALLDAYEVENT:FALSE
SUMMARY:Micropac Tour
DESCRIPTION:Micropac Tour
X-ALT-DESC;FMTTYPE=text/html:Micropac Tour
LOCATION:Micropac Industries\, Inc.
UID:e.2096.2572
SEQUENCE:3
DTSTAMP:20260421T085855Z
URL:https://network.garlandchamber.com/events/details/micropac-tour-04-26-2013-2572
END:VEVENT

END:VCALENDAR
