BEGIN:VCALENDAR
VERSION:2.0
PRODID:-//ChamberMaster//Event Calendar 2.0//EN
METHOD:PUBLISH
X-PUBLISHED-TTL:P3D
REFRESH-INTERVAL:P3D
CALSCALE:GREGORIAN
BEGIN:VEVENT
DTSTART;VALUE=DATE:20120220
DTEND;VALUE=DATE:20120319
TRANSP:TRANSPARENT
X-MICROSOFT-CDO-ALLDAYEVENT:TRUE
SUMMARY:Military Saves Campaign
DESCRIPTION:Campaign to encourage military and their families to save
X-ALT-DESC;FMTTYPE=text/html:Campaign to encourage military and their families to save
LOCATION:Navy Federal Garland Branch
UID:e.2096.13
SEQUENCE:3
DTSTAMP:20260422T050513Z
URL:https://network.garlandchamber.com/events/details/military-saves-campaign-02-20-2012-13
END:VEVENT

END:VCALENDAR
