BEGIN:VCALENDAR
VERSION:2.0
PRODID:-//ChamberMaster//Event Calendar 2.0//EN
METHOD:PUBLISH
X-PUBLISHED-TTL:P3D
REFRESH-INTERVAL:P3D
CALSCALE:GREGORIAN
BEGIN:VEVENT
DTSTART:20070430T163000Z
DTEND:20070430T180000Z
X-MICROSOFT-CDO-ALLDAYEVENT:FALSE
SUMMARY:Monthly Luncheon April 2007
DESCRIPTION:These luncheons are designed to bring members together and keep them informed. At this event you will listen to top business and government officials speak on interesting and informative issues.
X-ALT-DESC;FMTTYPE=text/html:<p class="MsoNormal" style="margin: 0in 0in 0pt\; font-family: Arial\; mso-layout-grid-align: none\;"><i><span style="color: black\; font-family: &quot\;Arial Narrow&quot\;\; font-size: 12pt\; mso-bidi-font-family: Arial\;">These luncheons are designed to bring members together and keep them informed. At this event you will listen to top business and government officials speak on interesting and informative issues.</span></i></p>\n\n<p align="center" class="MsoNormal" style="margin: 0in 0in 0pt\; font-family: Arial\; mso-layout-grid-align: none\;">&nbsp\;</p>\n
LOCATION:The Atrium
UID:e.2096.356
SEQUENCE:3
DTSTAMP:20260425T153049Z
URL:https://network.garlandchamber.com/events/details/monthly-luncheon-april-2007-04-30-2007-356
END:VEVENT

END:VCALENDAR
