BEGIN:VCALENDAR
VERSION:2.0
PRODID:-//ChamberMaster//Event Calendar 2.0//EN
METHOD:PUBLISH
X-PUBLISHED-TTL:P3D
REFRESH-INTERVAL:P3D
CALSCALE:GREGORIAN
BEGIN:VEVENT
DTSTART:20100426T163000Z
DTEND:20100426T180000Z
X-MICROSOFT-CDO-ALLDAYEVENT:FALSE
SUMMARY:Monthly Luncheon April 2010
DESCRIPTION:Speaker/ Topic information for this event will be posted soon
X-ALT-DESC;FMTTYPE=text/html:<p class="MsoNormal" style="margin: 0in 0in 0pt\; line-height: normal\;"><span style="font-family: &quot\;Tempus Sans ITC&quot\;\; font-size: 12pt\; mso-fareast-font-family: &quot\;Times New Roman&quot\;\; mso-bidi-font-family: &quot\;Times New Roman&quot\;\;">Speaker/ Topic information for this event will be posted soon</span></p>\n
LOCATION:The Atrium
UID:e.2096.763
SEQUENCE:3
DTSTAMP:20260423T121138Z
URL:https://network.garlandchamber.com/events/details/monthly-luncheon-april-2010-04-26-2010-763
END:VEVENT

END:VCALENDAR
