BEGIN:VCALENDAR
VERSION:2.0
PRODID:-//ChamberMaster//Event Calendar 2.0//EN
METHOD:PUBLISH
X-PUBLISHED-TTL:P3D
REFRESH-INTERVAL:P3D
CALSCALE:GREGORIAN
BEGIN:VEVENT
DTSTART:20130429T161500Z
DTEND:20130429T180000Z
X-MICROSOFT-CDO-ALLDAYEVENT:FALSE
SUMMARY:Monthly Luncheon April 2013
DESCRIPTION:Candidates Forum with G.I.S.D. Board & City Council Candidates\n\nDate: Monday\, April 29\, 2013\n\nTime: 11:30 a.m. - 1:00 p.m.\n\nLocation: The Atrium at the Granville Arts Center\n\n300 N. Fifth St.\, Garland\, TX 75040\n\nThe Garland Chamber of Commerce will host a candidates forum on Monday\, April 29\, 2013. Candidates for Garland Independent School District Board of Trustees and City of Garland Council will be introduced. Each candidate will have time to speak on important issues facing G.I.S.D. and the City of Garland. We encourage the business community and citizens of Garland to join us to meet the candidates and ask questions. Election Day will be Saturday\, May 11\, 2013.\n\nThe April Luncheon is sponsored by: Texas Brand Bank
X-ALT-DESC;FMTTYPE=text/html:<p>Candidates Forum&nbsp\;with G.I.S.D. Board &amp\; City Council Candidates<br />\nDate: Monday\, April 29\, 2013<br />\nTime: 11:30 a.m.&nbsp\;- 1:00 p.m.<br />\nLocation: The Atrium at the Granville Arts Center<br />\n300 N. Fifth St.\, Garland\, TX 75040</p>\n\n<p>The Garland Chamber of Commerce will host a candidates forum on Monday\, April 29\, 2013. Candidates for Garland Independent School District Board of Trustees and City of Garland Council will be introduced. Each candidate will have time to speak on important issues facing G.I.S.D. and the City of Garland. We encourage the business community and citizens of Garland to join us to meet the candidates and ask questions. Election Day will be Saturday\, May 11\, 2013.</p>\n\n<p>The April Luncheon is sponsored by: <a datafld="0:0" href="http://www.texasbrandbank.com/">Texas Brand Bank</a></p>\n
LOCATION:Garland Cultural Arts Commission\, Inc.
UID:e.2096.1146
SEQUENCE:3
DTSTAMP:20260421T102513Z
URL:https://network.garlandchamber.com/events/details/monthly-luncheon-april-2013-04-29-2013-1146
END:VEVENT

END:VCALENDAR
