BEGIN:VCALENDAR
VERSION:2.0
PRODID:-//ChamberMaster//Event Calendar 2.0//EN
METHOD:PUBLISH
X-PUBLISHED-TTL:P3D
REFRESH-INTERVAL:P3D
CALSCALE:GREGORIAN
BEGIN:VEVENT
DTSTART:20150427T163000Z
DTEND:20150427T180000Z
X-MICROSOFT-CDO-ALLDAYEVENT:FALSE
SUMMARY:Monthly Luncheon April 2015
DESCRIPTION:
X-ALT-DESC;FMTTYPE=text/html:
LOCATION:The Atrium at the Granville Arts Center
UID:e.2096.2664
SEQUENCE:3
DTSTAMP:20260419T210459Z
URL:https://network.garlandchamber.com/events/details/monthly-luncheon-april-2015-04-27-2015-2664
END:VEVENT

END:VCALENDAR
