BEGIN:VCALENDAR
VERSION:2.0
PRODID:-//ChamberMaster//Event Calendar 2.0//EN
METHOD:PUBLISH
X-PUBLISHED-TTL:P3D
REFRESH-INTERVAL:P3D
CALSCALE:GREGORIAN
BEGIN:VEVENT
DTSTART:20080825T163000Z
DTEND:20080825T180000Z
X-MICROSOFT-CDO-ALLDAYEVENT:FALSE
SUMMARY:Monthly Luncheon August 2008
DESCRIPTION:
X-ALT-DESC;FMTTYPE=text/html:
LOCATION:The Atrium
UID:e.2096.491
SEQUENCE:3
DTSTAMP:20260424T160730Z
URL:https://network.garlandchamber.com/events/details/monthly-luncheon-august-2008-08-25-2008-491
END:VEVENT

END:VCALENDAR
