BEGIN:VCALENDAR
VERSION:2.0
PRODID:-//ChamberMaster//Event Calendar 2.0//EN
METHOD:PUBLISH
X-PUBLISHED-TTL:P3D
REFRESH-INTERVAL:P3D
CALSCALE:GREGORIAN
BEGIN:VEVENT
DTSTART:20100830T163000Z
DTEND:20100830T180000Z
X-MICROSOFT-CDO-ALLDAYEVENT:FALSE
SUMMARY:Monthly Luncheon August 2010
DESCRIPTION:
X-ALT-DESC;FMTTYPE=text/html:
LOCATION:The Atrium
UID:e.2096.773
SEQUENCE:3
DTSTAMP:20260423T064726Z
URL:https://network.garlandchamber.com/events/details/monthly-luncheon-august-2010-08-30-2010-773
END:VEVENT

END:VCALENDAR
