BEGIN:VCALENDAR
VERSION:2.0
PRODID:-//ChamberMaster//Event Calendar 2.0//EN
METHOD:PUBLISH
X-PUBLISHED-TTL:P3D
REFRESH-INTERVAL:P3D
CALSCALE:GREGORIAN
BEGIN:VEVENT
DTSTART:20130826T161500Z
DTEND:20130826T180000Z
X-MICROSOFT-CDO-ALLDAYEVENT:FALSE
SUMMARY:Monthly Luncheon August 2013
DESCRIPTION:Speaker: Senator John Carona\, State of Texas\n\nDate: Monday\, August 26\, 2013\n\nTime: 11:30 a.m. - 1:00 p.m.\n\nLocation: The Atrium at the Granville Arts Center\n\n300 N. Fifth St.\, Garland\, TX 75040\n\nThe August Luncheon is sponsored by: Christian Care Centers
X-ALT-DESC;FMTTYPE=text/html:<p>Speaker:&nbsp\;Senator John Carona\, State of Texas<br />\nDate: Monday\, August 26\, 2013<br />\nTime: 11:30 a.m.&nbsp\;- 1:00 p.m.<br />\nLocation: The Atrium at the Granville Arts Center<br />\n300 N. Fifth St.\, Garland\, TX 75040</p>\n\n<p>The August Luncheon is sponsored by: <a datafld="0:0" href="http://www.cccinc.net/">Christian Care Centers</a></p>\n
LOCATION:Garland Cultural Arts Commission\, Inc.
UID:e.2096.1150
SEQUENCE:3
DTSTAMP:20260421T032307Z
URL:https://network.garlandchamber.com/events/details/monthly-luncheon-august-2013-08-26-2013-1150
END:VEVENT

END:VCALENDAR
