BEGIN:VCALENDAR
VERSION:2.0
PRODID:-//ChamberMaster//Event Calendar 2.0//EN
METHOD:PUBLISH
X-PUBLISHED-TTL:P3D
REFRESH-INTERVAL:P3D
CALSCALE:GREGORIAN
BEGIN:VEVENT
DTSTART:20150831T163000Z
DTEND:20150831T180000Z
X-MICROSOFT-CDO-ALLDAYEVENT:FALSE
SUMMARY:Monthly Luncheon August 2015
DESCRIPTION:Speaker: \n\nTopic: \n\nSponsor:
X-ALT-DESC;FMTTYPE=text/html:Speaker:&nbsp\;<br>\nTopic:&nbsp\;<br>\nSponsor:&nbsp\;&nbsp\;&nbsp\;&nbsp\;&nbsp\;
LOCATION:The Atrium at the Granville Arts Center
UID:e.2096.2668
SEQUENCE:3
DTSTAMP:20260419T143508Z
URL:https://network.garlandchamber.com/events/details/monthly-luncheon-august-2015-08-31-2015-2668
END:VEVENT

END:VCALENDAR
