BEGIN:VCALENDAR
VERSION:2.0
PRODID:-//ChamberMaster//Event Calendar 2.0//EN
METHOD:PUBLISH
X-PUBLISHED-TTL:P3D
REFRESH-INTERVAL:P3D
CALSCALE:GREGORIAN
BEGIN:VEVENT
DTSTART:20061211T173000Z
DTEND:20061211T190000Z
X-MICROSOFT-CDO-ALLDAYEVENT:FALSE
SUMMARY:Monthly Luncheon December 2006
DESCRIPTION:These luncheons are designed to bring members together and keep them informed. At this event you will listen to top business and government officials speak on interesting and informative issues.
X-ALT-DESC;FMTTYPE=text/html:<div style="font-family: Arial\;">\n<p class="MsoNormal" style="margin: 0in 0in 0pt\; mso-layout-grid-align: none\;"><i><span style="color: black\; font-family: &quot\;Arial Narrow&quot\;\; font-size: 12pt\; mso-bidi-font-family: Arial\;"><span style="mso-spacerun: yes\;">&nbsp\;</span>These luncheons are designed to bring members together and keep them informed. At this event you will listen to top business and government officials speak on interesting and informative issues.<!--?xml:namespace prefix = o ns = "urn:schemas-microsoft-com:office:office" /--><o:p></o:p></span></i></p>\n</div>\n
LOCATION:The Atrium at the Granville Arts Center
UID:e.2096.291
SEQUENCE:3
DTSTAMP:20260425T223936Z
URL:https://network.garlandchamber.com/events/details/monthly-luncheon-december-2006-12-11-2006-291
END:VEVENT

END:VCALENDAR
