BEGIN:VCALENDAR
VERSION:2.0
PRODID:-//ChamberMaster//Event Calendar 2.0//EN
METHOD:PUBLISH
X-PUBLISHED-TTL:P3D
REFRESH-INTERVAL:P3D
CALSCALE:GREGORIAN
BEGIN:VEVENT
DTSTART:20110228T173000Z
DTEND:20110228T190000Z
X-MICROSOFT-CDO-ALLDAYEVENT:FALSE
SUMMARY:Monthly Luncheon February 2011
DESCRIPTION:
X-ALT-DESC;FMTTYPE=text/html:
LOCATION:The Atrium at the Granville Arts Center
UID:e.2096.865
SEQUENCE:3
DTSTAMP:20260422T222449Z
URL:https://network.garlandchamber.com/events/details/monthly-luncheon-february-2011-02-28-2011-865
END:VEVENT

END:VCALENDAR
