BEGIN:VCALENDAR
VERSION:2.0
PRODID:-//ChamberMaster//Event Calendar 2.0//EN
METHOD:PUBLISH
X-PUBLISHED-TTL:P3D
REFRESH-INTERVAL:P3D
CALSCALE:GREGORIAN
BEGIN:VEVENT
DTSTART:20130225T171500Z
DTEND:20130225T190000Z
X-MICROSOFT-CDO-ALLDAYEVENT:FALSE
SUMMARY:Monthly Luncheon February 2013
DESCRIPTION:Speaker: Mayor Ronald Jones\, City of Garland\n\nTopic: "State of the City"\n\nDate: Monday\, February 25\, 2013\n\nTime: 11:30 a.m. - 1:00 p.m.\n\nLocation: The Atrium at the Granville Arts Center 300 N. Fifth St.\, Garland\, TX 75040\n\nGarland Mayor Ronald E. Jones joins the Chamber for its February Monthly Luncheon to deliver his annual "State of the City Address." Mayor Jones will review milestones of the past year and share exciting expectation for the year ahead.  The Mayor's address will be valuable to any professional interested in gaining timely information about the city. Mayor Jones will also allot time for questions following his presentation.\n\nThe February Luncheon is sponsored by: Shea & McMurdie Financial
X-ALT-DESC;FMTTYPE=text/html:<p>Speaker: Mayor Ronald Jones\, City of Garland<br />\nTopic: &quot\;State of the City&quot\;<br />\nDate: Monday\, February 25\, 2013<br />\nTime: 11:30 a.m.&nbsp\;- 1:00 p.m.<br />\nLocation: The Atrium at the Granville Arts Center 300 N. Fifth St.\, Garland\, TX 75040</p>\n\n<p>Garland Mayor Ronald E. Jones joins the Chamber for its February Monthly Luncheon to deliver his annual &quot\;State of the City Address.&quot\; Mayor Jones will review milestones of the past year and share exciting expectation for the year ahead.&nbsp\; The Mayor&#39\;s address will be valuable to any professional interested in gaining timely information about the city. Mayor Jones will also allot time for questions following his presentation.</p>\n\n<p>The February Luncheon is sponsored by: Shea &amp\; McMurdie Financial</p>\n
LOCATION:The Atrium at the Granville Arts Center
UID:e.2096.1137
SEQUENCE:3
DTSTAMP:20260421T115129Z
URL:https://network.garlandchamber.com/events/details/monthly-luncheon-february-2013-02-25-2013-1137
END:VEVENT

END:VCALENDAR
