BEGIN:VCALENDAR
VERSION:2.0
PRODID:-//ChamberMaster//Event Calendar 2.0//EN
METHOD:PUBLISH
X-PUBLISHED-TTL:P3D
REFRESH-INTERVAL:P3D
CALSCALE:GREGORIAN
BEGIN:VEVENT
DTSTART:20140224T171500Z
DTEND:20140224T190000Z
X-MICROSOFT-CDO-ALLDAYEVENT:FALSE
SUMMARY:Monthly Luncheon February 2014
DESCRIPTION:Speaker: Mayor Douglas Athas\, City of Garland\n\nTopic: "State of the City"\n\nDate: Monday\, February 24\, 2014\n\nTime: 11:30 a.m. - 1:00 p.m.\n\nLocation: The Atrium at the Granville Arts Center 300 N. Fifth St.\, Garland\, TX 75040\n\nGarland Mayor Douglas Athas joins the Chamber for its February Monthly Luncheon to deliver the annual "State of the City Address." Mayor Athas will review milestones of the past year and share exciting expectation for the year ahead.  The Mayor's address will be valuable to any professional interested in gaining timely information about the city. Mayor Athas will also allot time for questions following his presentation.
X-ALT-DESC;FMTTYPE=text/html:<p>Speaker: Mayor Douglas Athas\, City of Garland<br />\nTopic: &quot\;State of the City&quot\;<br />\nDate: Monday\, February 24\, 2014<br />\nTime: 11:30 a.m.&nbsp\;- 1:00 p.m.<br />\nLocation: The Atrium at the Granville Arts Center 300 N. Fifth St.\, Garland\, TX 75040</p>\n\n<p>Garland Mayor Douglas Athas joins the Chamber for its February Monthly Luncheon to deliver the annual &quot\;State of the City Address.&quot\; Mayor Athas will review milestones of the past year and share exciting expectation for the year ahead.&nbsp\; The Mayor&#39\;s address will be valuable to any professional interested in gaining timely information about the city. Mayor Athas will also allot time for questions following his presentation.</p>\n
LOCATION:The Atrium at the Granville Arts Center
UID:e.2096.1211
SEQUENCE:3
DTSTAMP:20260420T182402Z
URL:https://network.garlandchamber.com/events/details/monthly-luncheon-february-2014-02-24-2014-1211
END:VEVENT

END:VCALENDAR
