BEGIN:VCALENDAR
VERSION:2.0
PRODID:-//ChamberMaster//Event Calendar 2.0//EN
METHOD:PUBLISH
X-PUBLISHED-TTL:P3D
REFRESH-INTERVAL:P3D
CALSCALE:GREGORIAN
BEGIN:VEVENT
DTSTART:20080128T173000Z
DTEND:20080128T190000Z
X-MICROSOFT-CDO-ALLDAYEVENT:FALSE
SUMMARY:Monthly Luncheon January 2008
DESCRIPTION:
X-ALT-DESC;FMTTYPE=text/html:
LOCATION:The Atrium
UID:e.2096.474
SEQUENCE:3
DTSTAMP:20260425T020217Z
URL:https://network.garlandchamber.com/events/details/monthly-luncheon-january-2008-01-28-2008-474
END:VEVENT

END:VCALENDAR
