BEGIN:VCALENDAR
VERSION:2.0
PRODID:-//ChamberMaster//Event Calendar 2.0//EN
METHOD:PUBLISH
X-PUBLISHED-TTL:P3D
REFRESH-INTERVAL:P3D
CALSCALE:GREGORIAN
BEGIN:VEVENT
DTSTART:20100125T173000Z
DTEND:20100125T190000Z
X-MICROSOFT-CDO-ALLDAYEVENT:FALSE
SUMMARY:Monthly Luncheon January 2010
DESCRIPTION:Speaker: Shama Hyder\n\nTopic: Social Media Marketing for B2B Companies\n\n \n\nShama Kabani is the President of The Marketing Zen Group\, a full service online marketing firm that serves clients around the world. She has been dubbed the ?master millennial of the universe? and ?an online marketing shaman? by Fast Company. She has aptly been named one of the 10 Most Influential and Powerful Women in Social Media.\n\nShama holds a Masters degree in Organizational Communication from the University of Texas at Austin\, and prides herself in being a constant learner. Her website\, http://www.MarketingZen.com has turned into a high-traffic destination for people looking for advice on how to successfully market their businesses online. And\, companies often look to Shama to guide them when it comes to the vast world of social media marketing. She also hosts a popular web TV show on new media marketing at http://Shama.Tv\, and the media regularly call on her to comment on marketing and technology trends. In 2009\, Business Week honored Shama as one of the Top 25 under 25 entrepreneurs in North America. Her first book\, The Zen of Social Media Marketing (BenBella Books)\, is due out in the Spring of 2010.\n\n \n\n\n\nMonday\, January 25\, 2010\n\n11:30 a.m. ? 1:00 p.m.\n\nThe Atrium at the Granville Arts Center\n\n300 N. Fifth St.\n\nGarland\, Texas 75040\n\n \n\nPlease visit our website www.garlandchamber.com to RSVP.\n\n $25 Members/ $30 Non-members\n\n \n\n***Please RSVP by Friday\, January 22nd at 3:00 p.m.\n\nLate RSVP?s/ Walk-ins will be charged $30 Members/ $35 Non-members.\n\nAlso please note that all luncheon payments must be made on or before the day of the luncheon.
X-ALT-DESC;FMTTYPE=text/html:<p class="MsoNormal" style="margin: 0in 0in 0pt\; line-height: normal\;"><span style="font-family: &quot\;Tempus Sans ITC&quot\;\; font-size: 12pt\; mso-fareast-font-family: &quot\;Times New Roman&quot\;\; mso-bidi-font-family: &quot\;Times New Roman&quot\;\;"><b><span style="font-family: &quot\;Tempus Sans ITC&quot\;\; font-size: 13pt\; mso-fareast-font-family: &quot\;Times New Roman&quot\;\; mso-bidi-font-family: &quot\;Times New Roman&quot\;\;">Speaker:</span></b><span style="font-family: &quot\;Tempus Sans ITC&quot\;\; font-size: 13pt\; mso-fareast-font-family: &quot\;Times New Roman&quot\;\; mso-bidi-font-family: &quot\;Times New Roman&quot\;\;"> Shama Hyder<!--?xml:namespace prefix = o ns = "urn:schemas-microsoft-com:office:office" /--><o:p></o:p></span></span></p>\n\n<p class="MsoNormal" style="margin: 0in 0in 0pt\; line-height: normal\;"><span style="font-family: &quot\;Tempus Sans ITC&quot\;\; font-size: 12pt\; mso-fareast-font-family: &quot\;Times New Roman&quot\;\; mso-bidi-font-family: &quot\;Times New Roman&quot\;\;"><b><span style="font-family: &quot\;Tempus Sans ITC&quot\;\; font-size: 13pt\; mso-fareast-font-family: &quot\;Times New Roman&quot\;\; mso-bidi-font-family: &quot\;Times New Roman&quot\;\;">Topic:</span></b><span style="font-family: &quot\;Tempus Sans ITC&quot\;\; font-size: 13pt\; mso-fareast-font-family: &quot\;Times New Roman&quot\;\; mso-bidi-font-family: &quot\;Times New Roman&quot\;\;"> Social Media Marketing for B2B Companies<o:p></o:p></span></span></p>\n\n<p class="MsoNormal" style="margin: 0in 0in 0pt\; line-height: normal\;"><span style="font-family: &quot\;Tempus Sans ITC&quot\;\; font-size: 12pt\; mso-fareast-font-family: &quot\;Times New Roman&quot\;\; mso-bidi-font-family: &quot\;Times New Roman&quot\;\;"><span style="font-family: &quot\;Tempus Sans ITC&quot\;\; font-size: 13pt\; mso-fareast-font-family: &quot\;Times New Roman&quot\;\; mso-bidi-font-family: &quot\;Times New Roman&quot\;\;">&nbsp\;<o:p></o:p></span></span></p>\n\n<p class="MsoNormal" style="margin: 0in 0in 10pt\; line-height: normal\; mso-margin-top-alt: auto\; mso-margin-bottom-alt: auto\;"><span style="font-family: &quot\;Tempus Sans ITC&quot\;\; font-size: 12pt\; mso-fareast-font-family: &quot\;Times New Roman&quot\;\; mso-bidi-font-family: &quot\;Times New Roman&quot\;\;"><span style="font-family: &quot\;Tempus Sans ITC&quot\;\; font-size: 13pt\; mso-fareast-font-family: &quot\;Times New Roman&quot\;\; mso-bidi-font-family: Arial\;">Shama Kabani is the President of The Marketing Zen Group\, a full service online marketing firm that serves clients around the world. She has been dubbed the ?master millennial of the universe? and ?an online marketing shaman? by Fast Company. She has aptly been named one of the 10 Most Influential and Powerful Women in Social Media.<o:p></o:p></span></span></p>\n\n<p class="MsoNormal" style="margin: 0in 0in 10pt\; line-height: normal\; mso-margin-top-alt: auto\; mso-margin-bottom-alt: auto\;"><span style="font-family: &quot\;Tempus Sans ITC&quot\;\; font-size: 12pt\; mso-fareast-font-family: &quot\;Times New Roman&quot\;\; mso-bidi-font-family: &quot\;Times New Roman&quot\;\;"><span style="font-family: &quot\;Tempus Sans ITC&quot\;\; font-size: 13pt\; mso-fareast-font-family: &quot\;Times New Roman&quot\;\; mso-bidi-font-family: Arial\;">Shama holds a Masters degree in Organizational Communication from the University of Texas at Austin\, and prides herself in being a constant learner. Her website\, <a href="http://www.MarketingZen.com"><span style="color: windowtext\;">http://www.MarketingZen.com</span></a> has turned into a high-traffic destination for people looking for advice on how to successfully market their businesses online. And\, companies often look to Shama to guide them when it comes to the vast world of social media marketing. She also hosts a popular web TV show on new media marketing at <a href="http://Shama.Tv"><span style="color: windowtext\;">http://Shama.Tv</span></a>\, and the media regularly call on her to comment on marketing and technology trends. In 2009\, Business Week honored Shama as one of the Top 25 under 25 entrepreneurs in North America. Her first book\, The Zen of Social Media Marketing (BenBella Books)\, is due out in the Spring of 2010.</span><span style="font-family: &quot\;Tempus Sans ITC&quot\;\; font-size: 13pt\; mso-fareast-font-family: &quot\;Times New Roman&quot\;\; mso-bidi-font-family: &quot\;Times New Roman&quot\;\;"><o:p></o:p></span></span></p>\n\n<p align="center" class="MsoNormal" style="margin: 0in 0in 10pt\; text-align: center\; line-height: normal\; mso-margin-top-alt: auto\; mso-margin-bottom-alt: auto\;">&nbsp\;</p>\n\n<p class="MsoNormal" style="margin: 0in 0in 0pt\; line-height: normal\;"><span style="font-family: &quot\;Tempus Sans ITC&quot\;\; font-size: 12pt\; mso-fareast-font-family: &quot\;Times New Roman&quot\;\; mso-bidi-font-family: &quot\;Times New Roman&quot\;\;"><span style="font-family: &quot\;Tempus Sans ITC&quot\;\; font-size: 13pt\; mso-fareast-font-family: &quot\;Times New Roman&quot\;\; mso-bidi-font-family: &quot\;Times New Roman&quot\;\;"><o:p></o:p></span></span></p>\n\n<div align="center"><span style="font-family: &quot\;Tempus Sans ITC&quot\;\; font-size: 12pt\; mso-fareast-font-family: &quot\;Times New Roman&quot\;\; mso-bidi-font-family: &quot\;Times New Roman&quot\;\;"><b style="mso-bidi-font-weight: normal\;"><span style="color: green\; font-family: &quot\;Tempus Sans ITC&quot\;\; font-size: 13pt\; mso-fareast-font-family: &quot\;Times New Roman&quot\;\; mso-bidi-font-family: Arial\;">Monday\, January 25\, 2010</span></b></span></div>\n\n<div align="center"><span style="font-family: &quot\;Tempus Sans ITC&quot\;\; font-size: 12pt\; mso-fareast-font-family: &quot\;Times New Roman&quot\;\; mso-bidi-font-family: &quot\;Times New Roman&quot\;\;"><b style="mso-bidi-font-weight: normal\;"><span style="color: green\; font-family: &quot\;Tempus Sans ITC&quot\;\; font-size: 13pt\; mso-fareast-font-family: &quot\;Times New Roman&quot\;\; mso-bidi-font-family: Arial\;">11:30 a.m. ? 1:00 p.m.<o:p></o:p></span></b></span></div>\n\n<p align="center" class="MsoNormal" style="margin: 0in 0in 0pt\; text-align: center\; line-height: normal\;"><span style="font-family: &quot\;Tempus Sans ITC&quot\;\; font-size: 12pt\; mso-fareast-font-family: &quot\;Times New Roman&quot\;\; mso-bidi-font-family: &quot\;Times New Roman&quot\;\;"><b style="mso-bidi-font-weight: normal\;"><span style="font-family: &quot\;Tempus Sans ITC&quot\;\; font-size: 13pt\; mso-fareast-font-family: &quot\;Times New Roman&quot\;\; mso-bidi-font-family: Arial\;">The Atrium at the Granville Arts Center<o:p></o:p></span></b></span></p>\n\n<p align="center" class="MsoNormal" style="margin: 0in 0in 0pt\; text-align: center\; line-height: normal\;"><span style="font-family: &quot\;Tempus Sans ITC&quot\;\; font-size: 12pt\; mso-fareast-font-family: &quot\;Times New Roman&quot\;\; mso-bidi-font-family: &quot\;Times New Roman&quot\;\;"><b style="mso-bidi-font-weight: normal\;"><span style="font-family: &quot\;Tempus Sans ITC&quot\;\; font-size: 13pt\; mso-fareast-font-family: &quot\;Times New Roman&quot\;\; mso-bidi-font-family: Arial\;">300 N. Fifth St.<o:p></o:p></span></b></span></p>\n\n<p align="center" class="MsoNormal" style="margin: 0in 0in 0pt\; text-align: center\; line-height: normal\;"><span style="font-family: &quot\;Tempus Sans ITC&quot\;\; font-size: 12pt\; mso-fareast-font-family: &quot\;Times New Roman&quot\;\; mso-bidi-font-family: &quot\;Times New Roman&quot\;\;"><b style="mso-bidi-font-weight: normal\;"><span style="font-family: &quot\;Tempus Sans ITC&quot\;\; font-size: 13pt\; mso-fareast-font-family: &quot\;Times New Roman&quot\;\; mso-bidi-font-family: Arial\;">Garland\, Texas 75040<o:p></o:p></span></b></span></p>\n\n<p align="center" class="MsoNormal" style="margin: 0in 0in 0pt\; text-align: center\; line-height: normal\;"><span style="font-family: &quot\;Tempus Sans ITC&quot\;\; font-size: 12pt\; mso-fareast-font-family: &quot\;Times New Roman&quot\;\; mso-bidi-font-family: &quot\;Times New Roman&quot\;\;"><b style="mso-bidi-font-weight: normal\;"><span style="font-family: &quot\;Tempus Sans ITC&quot\;\; font-size: 13pt\; mso-fareast-font-family: &quot\;Times New Roman&quot\;\; mso-bidi-font-family: Arial\;"><o:p>&nbsp\;</o:p></span></b></span></p>\n\n<p align="center" class="MsoNormal" style="margin: 0in 0in 0pt\; text-align: center\; line-height: normal\;"><span style="font-family: &quot\;Tempus Sans ITC&quot\;\; font-size: 12pt\; mso-fareast-font-family: &quot\;Times New Roman&quot\;\; mso-bidi-font-family: &quot\;Times New Roman&quot\;\;"><span style="font-family: &quot\;Tempus Sans ITC&quot\;\; font-size: 13pt\; mso-fareast-font-family: &quot\;Times New Roman&quot\;\; mso-bidi-font-family: Arial\;">Please visit our website <a href="http://www.garlandchamber.com/"><span style="color: blue\;">www.garlandchamber.com</span></a> to RSVP.<o:p></o:p></span></span></p>\n\n<p align="center" class="MsoNormal" style="margin: 0in 0in 0pt\; text-align: center\; line-height: normal\;"><span style="font-family: &quot\;Tempus Sans ITC&quot\;\; font-size: 12pt\; mso-fareast-font-family: &quot\;Times New Roman&quot\;\; mso-bidi-font-family: &quot\;Times New Roman&quot\;\;"><span style="font-family: &quot\;Tempus Sans ITC&quot\;\; font-size: 13pt\; mso-fareast-font-family: &quot\;Times New Roman&quot\;\; mso-bidi-font-family: Arial\;"><span style="mso-spacerun: yes\;">&nbsp\;</span>$25 Members/ $30 Non-members<o:p></o:p></span></span></p>\n\n<p align="center" class="MsoNormal" style="margin: 0in 0in 0pt\; text-align: center\; line-height: normal\;"><span style="font-family: &quot\;Tempus Sans ITC&quot\;\; font-size: 12pt\; mso-fareast-font-family: &quot\;Times New Roman&quot\;\; mso-bidi-font-family: &quot\;Times New Roman&quot\;\;"><span style="font-family: &quot\;Tempus Sans ITC&quot\;\; font-size: 13pt\; mso-fareast-font-family: &quot\;Times New Roman&quot\;\; mso-bidi-font-family: Arial\;"><o:p>&nbsp\;</o:p></span></span></p>\n\n<p align="center" class="MsoNormal" style="margin: 0in 0in 0pt\; text-align: center\; line-height: normal\;"><span style="font-family: &quot\;Tempus Sans ITC&quot\;\; font-size: 12pt\; mso-fareast-font-family: &quot\;Times New Roman&quot\;\; mso-bidi-font-family: &quot\;Times New Roman&quot\;\;"><span style="color: red\; font-family: &quot\;Tempus Sans ITC&quot\;\; font-size: 13pt\; mso-fareast-font-family: &quot\;Times New Roman&quot\;\; mso-bidi-font-family: Arial\;">***Please RSVP by Friday\, January 22nd at 3:00 p.m.<o:p></o:p></span></span></p>\n\n<p align="center" class="MsoNormal" style="margin: 0in 0in 0pt\; text-align: center\; line-height: normal\;"><span style="font-family: &quot\;Tempus Sans ITC&quot\;\; font-size: 12pt\; mso-fareast-font-family: &quot\;Times New Roman&quot\;\; mso-bidi-font-family: &quot\;Times New Roman&quot\;\;"><span style="color: red\; font-family: &quot\;Tempus Sans ITC&quot\;\; font-size: 13pt\; mso-fareast-font-family: &quot\;Times New Roman&quot\;\; mso-bidi-font-family: Arial\;">Late RSVP?s/ Walk-ins will be charged $30 Members/ $35 Non-members.<o:p></o:p></span></span></p>\n\n<p align="center" class="MsoNormal" style="margin: 0in 0in 0pt\; text-align: center\; line-height: normal\;"><span style="font-family: &quot\;Tempus Sans ITC&quot\;\; font-size: 12pt\; mso-fareast-font-family: &quot\;Times New Roman&quot\;\; mso-bidi-font-family: &quot\;Times New Roman&quot\;\;"><span style="color: red\; font-family: &quot\;Tempus Sans ITC&quot\;\; font-size: 13pt\; mso-fareast-font-family: &quot\;Times New Roman&quot\;\; mso-bidi-font-family: Arial\;">Also please note that all luncheon payments must be made on or before the day of the luncheon.<o:p></o:p></span></span></p>\n\n<p class="MsoNormal" style="margin: 0in 0in 0pt\; line-height: normal\;">&nbsp\;</p>\n
LOCATION:The Atrium
UID:e.2096.743
SEQUENCE:3
DTSTAMP:20260423T163803Z
URL:https://network.garlandchamber.com/events/details/monthly-luncheon-january-2010-01-25-2010-743
END:VEVENT

END:VCALENDAR
