BEGIN:VCALENDAR
VERSION:2.0
PRODID:-//ChamberMaster//Event Calendar 2.0//EN
METHOD:PUBLISH
X-PUBLISHED-TTL:P3D
REFRESH-INTERVAL:P3D
CALSCALE:GREGORIAN
BEGIN:VEVENT
DTSTART:20100726T163000Z
DTEND:20100726T180000Z
X-MICROSOFT-CDO-ALLDAYEVENT:FALSE
SUMMARY:Monthly Luncheon July 2010
DESCRIPTION:
X-ALT-DESC;FMTTYPE=text/html:
LOCATION:The Atrium
UID:e.2096.772
SEQUENCE:3
DTSTAMP:20260423T081253Z
URL:https://network.garlandchamber.com/events/details/monthly-luncheon-july-2010-07-26-2010-772
END:VEVENT

END:VCALENDAR
