BEGIN:VCALENDAR
VERSION:2.0
PRODID:-//ChamberMaster//Event Calendar 2.0//EN
METHOD:PUBLISH
X-PUBLISHED-TTL:P3D
REFRESH-INTERVAL:P3D
CALSCALE:GREGORIAN
BEGIN:VEVENT
DTSTART:20130729T161500Z
DTEND:20130729T180000Z
X-MICROSOFT-CDO-ALLDAYEVENT:FALSE
SUMMARY:Monthly Luncheon July 2013
DESCRIPTION:Topic: Small Business Entrepreneurs\n\nThree local entrepreneurs join us to tell their stories of how the Garland business environment became a vital part of the formula for success in their growing businesses. Learn from the experiences\, challenges and strategies each entrepreneur has used in the process of developing a concept into reality.\n\nSpeakers:\n\nHerman Beckley\, Dallas Distilleries\n\nWim Bens\, Lakewood Brewing Company\n\nJoe Southwell\, Queens Winery\n\nDate: Monday\, July 29\, 2013\n\nTime: 11:30 a.m. - 1:00 p.m.\n\nLocation: The Atrium at the Granville Arts Center\n\n300 N. Fifth St.\, Garland\, TX 75040\n\nThe July Luncheon is sponsored by: BB&T
X-ALT-DESC;FMTTYPE=text/html:<p>Topic: Small Business Entrepreneurs<br />\nThree local entrepreneurs join us to tell their stories of how the Garland business environment&nbsp\;became a vital part of the formula for success in their growing businesses. Learn from the experiences\, challenges and strategies each entrepreneur has used in the process of developing a concept into reality.</p>\n\n<p>Speakers:<br />\nHerman Beckley\, Dallas Distilleries<br />\nWim Bens\, Lakewood Brewing Company<br />\nJoe Southwell\, Queens Winery</p>\n\n<p>Date: Monday\, July 29\, 2013<br />\nTime: 11:30 a.m.&nbsp\;- 1:00 p.m.<br />\nLocation: The Atrium at the Granville Arts Center<br />\n300 N. Fifth St.\, Garland\, TX 75040</p>\n\n<p>The July Luncheon is sponsored by: <a datafld="0:0" href="http://www.bbt.com/">BB&amp\;T</a></p>\n
LOCATION:The Atrium at the Granville Arts Center
UID:e.2096.1149
SEQUENCE:3
DTSTAMP:20260421T044739Z
URL:https://network.garlandchamber.com/events/details/monthly-luncheon-july-2013-07-29-2013-1149
END:VEVENT

END:VCALENDAR
