BEGIN:VCALENDAR
VERSION:2.0
PRODID:-//ChamberMaster//Event Calendar 2.0//EN
METHOD:PUBLISH
X-PUBLISHED-TTL:P3D
REFRESH-INTERVAL:P3D
CALSCALE:GREGORIAN
BEGIN:VEVENT
DTSTART:20130624T161500Z
DTEND:20130624T180000Z
X-MICROSOFT-CDO-ALLDAYEVENT:FALSE
SUMMARY:Monthly Luncheon June 2013
DESCRIPTION:Speaker: Malinda Howell\, Ebby Halliday Realtors & Ralph Heins\, Primera Companies\n\nTopic: Residential & Industrial Real Estate Outlook\n\nDate: Monday\, June 24\, 2013\n\nTime: 11:30 a.m. - 1:00 p.m.\n\nLocation: The Atrium at the Granville Arts Center\n\n300 N. Fifth St.\, Garland\, TX 75040\n\nThe June Luncheon is sponsored by: Garland Environmental Waste Services
X-ALT-DESC;FMTTYPE=text/html:<p>Speaker:&nbsp\;Malinda Howell\, Ebby Halliday Realtors &amp\; Ralph Heins\, Primera Companies<br />\nTopic:&nbsp\;Residential &amp\; Industrial Real Estate Outlook<br />\nDate: Monday\, June 24\, 2013<br />\nTime: 11:30 a.m.&nbsp\;- 1:00 p.m.<br />\nLocation: The Atrium at the Granville Arts Center<br />\n300 N. Fifth St.\, Garland\, TX 75040</p>\n\n<p>The June Luncheon is sponsored by: <a datafld="0:0" href="http://www.ci.garland.tx.us/gov/eg/ews/default.asp">Garland Environmental Waste Services</a></p>\n
LOCATION:The Atrium at the Granville Arts Center
UID:e.2096.1148
SEQUENCE:3
DTSTAMP:20260421T062732Z
URL:https://network.garlandchamber.com/events/details/monthly-luncheon-june-2013-06-24-2013-1148
END:VEVENT

END:VCALENDAR
