BEGIN:VCALENDAR
VERSION:2.0
PRODID:-//ChamberMaster//Event Calendar 2.0//EN
METHOD:PUBLISH
X-PUBLISHED-TTL:P3D
REFRESH-INTERVAL:P3D
CALSCALE:GREGORIAN
BEGIN:VEVENT
DTSTART:20140630T163000Z
DTEND:20140630T180000Z
X-MICROSOFT-CDO-ALLDAYEVENT:FALSE
SUMMARY:Monthly Luncheon June 2014
DESCRIPTION:Speaker: Tait Cruse\, CEO - Northwestern Mutual - Dallas\n\n\n\nTait Cruse\, CLU is the Managing Partner of Northwestern Mutual - Dallas\, responsible for all Northwestern Mutualsales and service operations in the Dallas metropolitan area and east\, extending to Western Arkansas. He leads more than 160 Financial Representatives and Advisors\, along with a large support staff\, at the organization's headquarters in Dallas and in additional offices located in Park Cities\, Las Colinas\, Addison\, Allen and Frisco.\n\nA strong background of excellence has characterized Tait's 25 year association with a company which has a history of attracting talent and drive. Northwestern Mutual is consistently voted one of FORTUNE  Magazine's Most Admired Companies in the world. Since assuming leadership in 2004\, Tait and his team of talented associates have propelled Northwestern Mutual - Dallas to be consistently recognized in the top three Northwestern Mutual Offices in the country. In 2010 Northwestern Mutual   Dallas was named #2 in the Dallas Morning News Top Places to Work\, and Tait was named #1 CEO of mid-sized companies in the city. Currently\, Northwestern Mutual - Dallas has in excess of $36 billion life insurance in force with annual premiums exceeding $206 million.\n\nTait supports numerous causes and organizations\, including The University of North Texas\, Children's Medical Center of Dallas\, and the TeamConnor Childhood Cancer Foundation (Founding Member). Tait and his wife Joy have five children Mackenzie\, Carson\, Mason\, Tyler and Emma.
X-ALT-DESC;FMTTYPE=text/html:<p style="box-sizing: border-box\; margin: 1.0666666666666667em 0px 0px\; font-size: 15px\; color: rgb(67\, 65\, 66)\; font-family: 'Nexa Book'\, Helvetica\, Arial\, Verdana\, serif\; line-height: 24px\;">Speaker:&nbsp\;Tait Cruse\, CEO - Northwestern Mutual -&nbsp\;<span class="ec531qp7" id="ec531qp7_6" style="box-sizing: border-box\; list-style: none\; float: none\; padding: 0px\; margin: 0px\; border-width: 1px\; border-style: solid\; border-top-color: transparent\; border-right-color: transparent\; border-left-color: transparent\; text-decoration: underline\; color: rgb(76\, 76\, 255)\; cursor: pointer\; display: inline !important\;">Dallas</span><br style="box-sizing: border-box\;" />\n<br />\nTait Cruse\, CLU is the Managing Partner of Northwestern Mutual - Dallas\, responsible for all Northwestern Mutual<span class="ec531qp7" id="ec531qp7_2" style="box-sizing: border-box\; list-style: none\; float: none\; padding: 0px\; margin: 0px\; border-width: 1px\; border-style: solid\; border-top-color: transparent\; border-right-color: transparent\; border-left-color: transparent\; text-decoration: underline\; color: rgb(76\, 76\, 255)\; cursor: pointer\; display: inline !important\;">sales</span><span class="ec531qp7" id="ec531qp7_2" style="box-sizing: border-box\; list-style: none\; float: none\; padding: 0px\; margin: 0px\; border-width: 1px\; border-style: solid\; border-top-color: transparent\; border-right-color: transparent\; border-left-color: transparent\; text-decoration: underline\; color: rgb(76\, 76\, 255)\; cursor: pointer\; display: inline !important\;"> and service</span>&nbsp\;operations in the Dallas metropolitan area and east\, extending to Western Arkansas. He leads more than 160 Financial Representatives and Advisors\, along with a large support staff\, at the organization&rsquo\;s headquarters in Dallas and in additional offices located in Park Cities\, Las Colinas\, Addison\, Allen and Frisco.</p>\n\n<p style="box-sizing: border-box\; margin: 1.0666666666666667em 0px 0px\; font-size: 15px\; color: rgb(67\, 65\, 66)\; font-family: 'Nexa Book'\, Helvetica\, Arial\, Verdana\, serif\; line-height: 24px\;">A strong background of excellence has characterized Tait&rsquo\;s 25 year association with a company which has a history of attracting talent and drive. Northwestern Mutual is consistently voted one of FORTUNE&reg\; Magazine&rsquo\;s&nbsp\;<span class="ec531qp7" id="ec531qp7_3" style="box-sizing: border-box\; list-style: none\; float: none\; padding: 0px\; margin: 0px\; border-width: 1px\; border-style: solid\; border-top-color: transparent\; border-right-color: transparent\; border-left-color: transparent\; text-decoration: underline\; color: rgb(76\, 76\, 255)\; cursor: pointer\; display: inline !important\;">Most Admired Companies</span>&nbsp\;in the world. Since assuming leadership in 2004\, Tait and his team of talented associates have propelled Northwestern Mutual - Dallas to be consistently recognized in the top three Northwestern Mutual Offices in the country. In 2010 Northwestern Mutual &ndash\; Dallas was named #2 in the Dallas Morning&nbsp\;<span class="ec531qp7" id="ec531qp7_1" style="box-sizing: border-box\; list-style: none\; float: none\; padding: 0px\; margin: 0px\; border-width: 1px\; border-style: solid\; border-top-color: transparent\; border-right-color: transparent\; border-left-color: transparent\; text-decoration: underline\; color: rgb(76\, 76\, 255)\; cursor: pointer\; display: inline !important\;">News</span>&nbsp\;Top Places to Work\, and Tait was named #1 CEO of mid-sized companies in the city. Currently\, Northwestern Mutual - Dallas has in excess of $36 billion life insurance in force with annual premiums exceeding $206 million.</p>\n\n<p style="box-sizing: border-box\; margin: 1.0666666666666667em 0px 0px\; font-size: 15px\; color: rgb(67\, 65\, 66)\; font-family: 'Nexa Book'\, Helvetica\, Arial\, Verdana\, serif\; line-height: 24px\;"><a style="box-sizing: border-box\; outline: 0px\; color: rgb(14\, 133\, 158)\; font-family: 'Nexa Bold'\, Helvetica\, Arial\, Verdana\, serif\;">Tait supports numerous causes and organizations\, including The University of North Texas\, Children&rsquo\;s Medical Center of Dallas\, and the TeamConnor Childhood Cancer Foundation (Founding Member). Tait and his wife Joy have five children&mdash\;Mackenzie\, Carson\, Mason\, Tyler and Emma.</a></p>\n
LOCATION:The Atrium at the Granville Arts Center
UID:e.2096.1215
SEQUENCE:3
DTSTAMP:20260420T133838Z
URL:https://network.garlandchamber.com/events/details/monthly-luncheon-june-2014-06-30-2014-1215
END:VEVENT

END:VCALENDAR
