BEGIN:VCALENDAR
VERSION:2.0
PRODID:-//ChamberMaster//Event Calendar 2.0//EN
METHOD:PUBLISH
X-PUBLISHED-TTL:P3D
REFRESH-INTERVAL:P3D
CALSCALE:GREGORIAN
BEGIN:VEVENT
DTSTART:20150302T173000Z
DTEND:20150302T190000Z
X-MICROSOFT-CDO-ALLDAYEVENT:FALSE
SUMMARY:Monthly Luncheon March 2\, 2015 (February Postponed)
DESCRIPTION:Speaker: \n\nTopic: \n\nSponsor:
X-ALT-DESC;FMTTYPE=text/html:Speaker:&nbsp\;<br />\nTopic:&nbsp\;<br />\nSponsor:&nbsp\;&nbsp\;&nbsp\;&nbsp\;&nbsp\;<br />\n&nbsp\;&nbsp\;&nbsp\;&nbsp\;
LOCATION:The Atrium at the Granville Arts Center
UID:e.2096.2650
SEQUENCE:3
DTSTAMP:20260420T002647Z
URL:https://network.garlandchamber.com/events/details/monthly-luncheon-march-2-2015-february-postponed-03-02-2015-2650
END:VEVENT

END:VCALENDAR
