BEGIN:VCALENDAR
VERSION:2.0
PRODID:-//ChamberMaster//Event Calendar 2.0//EN
METHOD:PUBLISH
X-PUBLISHED-TTL:P3D
REFRESH-INTERVAL:P3D
CALSCALE:GREGORIAN
BEGIN:VEVENT
DTSTART:20070326T163000Z
DTEND:20070326T180000Z
X-MICROSOFT-CDO-ALLDAYEVENT:FALSE
SUMMARY:Monthly Luncheon March 2007
DESCRIPTION:Leading through influence is not about position or title\; it's about helping people grow. Great places to work cultivate an atmosphere of trust\, pride and camaraderie to help everyone perform at their potential. Over 100 studies link progressive people practices to improved bottom line results. In this program participants will learn: {C}\n\n\n\n	The five critical principles for leading by influence and example \n	Tools and techniques for connecting with people \n	How to think like a leader\, regardless of position within the organization
X-ALT-DESC;FMTTYPE=text/html:<p class="MsoNormal" style="margin: 0in 0in 0pt\; font-family: Arial\; mso-layout-grid-align: none\;"><span style="color: black\; font-family: &quot\;Arial Narrow&quot\;\; font-size: 12pt\; mso-bidi-font-family: Arial\;"><span style="mso-spacerun: yes\;">&nbsp\;</span></span></p>\n\n<p class="MsoNormal" style="margin: 0in 0in 0pt\; font-family: Arial\;"><span style="font-family: &quot\;Arial Narrow&quot\;\; mso-bidi-font-family: Arial\;">&nbsp\;<span class="style37">Leading through influence is not about position or title\; it&#39\;s about helping people grow. Great places to work cultivate an atmosphere of trust\, pride and camaraderie to help everyone perform at their potential. Over 100 studies link progressive people practices to improved bottom line results. In this program participants will learn: {C}<!--?xml:namespace prefix = o ns = "urn:schemas-microsoft-com:office:office" /--><o:p></o:p></span></span></p>\n\n<div style="font-family: Arial\;">\n<ul type="disc">\n	<li class="MsoNormal" style="margin: 0in 0in 0pt\; mso-margin-top-alt: auto\; mso-margin-bottom-alt: auto\; mso-list: l0 level1 lfo1\; tab-stops: list .5in\;"><span style="font-family: &quot\;Arial Narrow&quot\;\; mso-bidi-font-family: Arial\;">The five critical principles for leading by influence and example <o:p></o:p></span></li>\n	<li class="MsoNormal" style="margin: 0in 0in 0pt\; mso-margin-top-alt: auto\; mso-margin-bottom-alt: auto\; mso-list: l0 level1 lfo1\; tab-stops: list .5in\;"><span style="font-family: &quot\;Arial Narrow&quot\;\; mso-bidi-font-family: Arial\;">Tools and techniques for connecting with people <o:p></o:p></span></li>\n	<li class="MsoNormal" style="margin: 0in 0in 0pt\; mso-margin-top-alt: auto\; mso-margin-bottom-alt: auto\; mso-list: l0 level1 lfo1\; tab-stops: list .5in\;"><span style="font-family: &quot\;Arial Narrow&quot\;\; mso-bidi-font-family: Arial\;">How to think like a leader\, regardless of position within the organization</span></li>\n</ul>\n</div>\n\n<p class="MsoNormal" style="margin: 0in 0in 0pt\; mso-margin-top-alt: auto\; mso-margin-bottom-alt: auto\; mso-list: l0 level1 lfo1\; tab-stops: list .5in\;"><span style="font-family: &quot\;Arial Narrow&quot\;\; mso-bidi-font-family: Arial\;"><o:p></o:p></span>&nbsp\;</p>\n
LOCATION:The Atrium
UID:e.2096.351
SEQUENCE:3
DTSTAMP:20260425T163451Z
URL:https://network.garlandchamber.com/events/details/monthly-luncheon-march-2007-03-26-2007-351
END:VEVENT

END:VCALENDAR
