BEGIN:VCALENDAR
VERSION:2.0
PRODID:-//ChamberMaster//Event Calendar 2.0//EN
METHOD:PUBLISH
X-PUBLISHED-TTL:P3D
REFRESH-INTERVAL:P3D
CALSCALE:GREGORIAN
BEGIN:VEVENT
DTSTART:20100329T163000Z
DTEND:20100329T180000Z
X-MICROSOFT-CDO-ALLDAYEVENT:FALSE
SUMMARY:Monthly Luncheon March 2010
DESCRIPTION:
X-ALT-DESC;FMTTYPE=text/html:
LOCATION:The Atrium
UID:e.2096.761
SEQUENCE:3
DTSTAMP:20260423T133936Z
URL:https://network.garlandchamber.com/events/details/monthly-luncheon-march-2010-03-29-2010-761
END:VEVENT

END:VCALENDAR
