BEGIN:VCALENDAR
VERSION:2.0
PRODID:-//ChamberMaster//Event Calendar 2.0//EN
METHOD:PUBLISH
X-PUBLISHED-TTL:P3D
REFRESH-INTERVAL:P3D
CALSCALE:GREGORIAN
BEGIN:VEVENT
DTSTART:20130325T161500Z
DTEND:20130325T180000Z
X-MICROSOFT-CDO-ALLDAYEVENT:FALSE
SUMMARY:Monthly Luncheon March 2013
DESCRIPTION:Speaker: Justice Dale Wainwright\n\nDate: Monday\, March 25\, 2013\n\nTime: 11:30 a.m. to 1 p.m.\n\nLocation: The Atrium at the Granville Arts Center\n\n300 N. Fifth St. Garland\, TX 75040\n\n \n\nThe March Luncheon is sponsored by: The Payton Group\n\n \n\nHosted by: Leadership Garland Alumni\n\nJoin us as we recognize the 2013 recipient of the Distinguished Leadership Alumni Award during the program.\n\n \n\nJustice Dale Wainwright represents clients in complex appeals in state and federal appellate courts. He counsels clients on litigation strategy\, error preservation at trial\, jury charge preparation and argument\, post-verdict proceedings\, analysis of the trial record for appellate potential and structuring appeals for success in the appellate courts.\n\n \n\nPrior to joining Bracewell\, Justice Wainwright served on the Texas Supreme Court for 10 years\, authoring more than 125 opinions. Elected to the Supreme Court in 2002\, he was the third-longest-serving member of the court at the time of his resignation. Justice Wainwright began his judicial career in 1999 when he was appointed by Governor George W. Bush to preside over the 334th Civil Judicial District Court in Houston\, Texas. As judge of the 334th District Court\, he resolved 3\,000 cases and presided over more than 100 trials. Prior to becoming a jurist\, he represented clients at trial and in appeals for more than a decade.\n\n \n\nAdditional Information on Justice Dale Wainwright
X-ALT-DESC;FMTTYPE=text/html:<div style="font-family: Arial\;">Speaker: Justice Dale Wainwright</div>\n\n<div style="font-family: Arial\;">Date: Monday\, March 25\, 2013</div>\n\n<div style="font-family: Arial\;">Time: 11:30 a.m. to 1 p.m.</div>\n\n<div style="font-family: Arial\;">Location: The Atrium at the Granville Arts Center</div>\n\n<div style="font-family: Arial\;">300 N. Fifth St. Garland\, TX 75040</div>\n\n<div style="font-family: Arial\;">&nbsp\;</div>\n\n<div style="font-family: Arial\;">The March Luncheon is sponsored by: <a datafld="0:0" href="http://thepaytongroup.com/">The Payton Group</a></div>\n\n<div style="font-family: Arial\;">&nbsp\;</div>\n\n<div style="font-family: Arial\;">Hosted by: <a datafld="0:0" href="http://www.garlandchamber.com/leadership-garland/alumni-organization">Leadership Garland Alumni</a></div>\n\n<div style="font-family: Arial\;">Join us as we recognize the 2013 recipient of the Distinguished Leadership Alumni Award&nbsp\;during the program.</div>\n\n<div style="font-family: Arial\;">&nbsp\;</div>\n\n<div style="font-family: Arial\;">Justice Dale Wainwright represents clients in complex appeals in state and federal appellate courts. He counsels clients on litigation strategy\, error preservation at trial\, jury charge preparation and argument\, post-verdict proceedings\, analysis of the trial record for appellate potential and structuring appeals for success in the appellate courts.</div>\n\n<div style="font-family: Arial\;">&nbsp\;</div>\n\n<div style="font-family: Arial\;">Prior to joining Bracewell\, Justice Wainwright served on the Texas Supreme Court for 10 years\, authoring more than 125 opinions. Elected to the Supreme Court in 2002\, he was the third-longest-serving member of the court at the time of his resignation. Justice Wainwright began his judicial career in 1999 when he was appointed by Governor George W. Bush to preside over the 334th Civil Judicial District Court in Houston\, Texas. As judge of the 334th District Court\, he resolved 3\,000 cases and presided over more than 100 trials. Prior to becoming a jurist\, he represented clients at trial and in appeals for more than a decade.</div>\n\n<div style="font-family: Arial\;">&nbsp\;</div>\n\n<div style="font-family: Arial\;"><a datafld="0:0" href="http://www.bracewellgiuliani.com/people/dale-wainwright">Additional Information on Justice Dale Wainwright</a></div>\n
LOCATION:The Atrium at the Granville Arts Center
UID:e.2096.1145
SEQUENCE:3
DTSTAMP:20260421T115054Z
URL:https://network.garlandchamber.com/events/details/monthly-luncheon-march-2013-03-25-2013-1145
END:VEVENT

END:VCALENDAR
