BEGIN:VCALENDAR
VERSION:2.0
PRODID:-//ChamberMaster//Event Calendar 2.0//EN
METHOD:PUBLISH
X-PUBLISHED-TTL:P3D
REFRESH-INTERVAL:P3D
CALSCALE:GREGORIAN
BEGIN:VEVENT
DTSTART:20140331T163000Z
DTEND:20140331T180000Z
X-MICROSOFT-CDO-ALLDAYEVENT:FALSE
SUMMARY:Monthly Luncheon March 2014
DESCRIPTION:Speaker: \n\nTopic: \n\nDate: Monday\, March 31\, 2014\n\nTime: 11:30 a.m. - 1:00 p.m.\n\nLocation: The Atrium at the Granville Arts Center 300 N. Fifth St.\, Garland\, TX 75040
X-ALT-DESC;FMTTYPE=text/html:<p>Speaker:&nbsp\;<br />\nTopic:&nbsp\;<br />\nDate: Monday\, March 31\, 2014<br />\nTime: 11:30 a.m.&nbsp\;- 1:00 p.m.<br />\nLocation: The Atrium at the Granville Arts Center 300 N. Fifth St.\, Garland\, TX 75040</p>\n
LOCATION:Garland Cultural Arts Commission\, Inc.
UID:e.2096.1212
SEQUENCE:3
DTSTAMP:20260420T182321Z
URL:https://network.garlandchamber.com/events/details/monthly-luncheon-march-2014-03-31-2014-1212
END:VEVENT

END:VCALENDAR
