BEGIN:VCALENDAR
VERSION:2.0
PRODID:-//ChamberMaster//Event Calendar 2.0//EN
METHOD:PUBLISH
X-PUBLISHED-TTL:P3D
REFRESH-INTERVAL:P3D
CALSCALE:GREGORIAN
BEGIN:VEVENT
DTSTART:20080519T163000Z
DTEND:20080519T180000Z
X-MICROSOFT-CDO-ALLDAYEVENT:FALSE
SUMMARY:Monthly Luncheon May 2008
DESCRIPTION:
X-ALT-DESC;FMTTYPE=text/html:
LOCATION:The Atrium
UID:e.2096.488
SEQUENCE:3
DTSTAMP:20260424T213032Z
URL:https://network.garlandchamber.com/events/details/monthly-luncheon-may-2008-05-19-2008-488
END:VEVENT

END:VCALENDAR
