BEGIN:VCALENDAR
VERSION:2.0
PRODID:-//ChamberMaster//Event Calendar 2.0//EN
METHOD:PUBLISH
X-PUBLISHED-TTL:P3D
REFRESH-INTERVAL:P3D
CALSCALE:GREGORIAN
BEGIN:VEVENT
DTSTART:20110523T163000Z
DTEND:20110523T180000Z
X-MICROSOFT-CDO-ALLDAYEVENT:FALSE
SUMMARY:Monthly Luncheon May 2011
DESCRIPTION:
X-ALT-DESC;FMTTYPE=text/html:
LOCATION:The Atrium at the Granville Arts Center
UID:e.2096.884
SEQUENCE:3
DTSTAMP:20260422T192611Z
URL:https://network.garlandchamber.com/events/details/monthly-luncheon-may-2011-05-23-2011-884
END:VEVENT

END:VCALENDAR
