BEGIN:VCALENDAR
VERSION:2.0
PRODID:-//ChamberMaster//Event Calendar 2.0//EN
METHOD:PUBLISH
X-PUBLISHED-TTL:P3D
REFRESH-INTERVAL:P3D
CALSCALE:GREGORIAN
BEGIN:VEVENT
DTSTART:20130520T163000Z
DTEND:20130520T180000Z
X-MICROSOFT-CDO-ALLDAYEVENT:FALSE
SUMMARY:Monthly Luncheon May 2013
DESCRIPTION:Hosted by the Dallas County Manufacturers' Association\n\n\n\nSpeaker: Hope Andrade\, Commissioner Representing Employers for the Texas Workforce Commission and former Texas Secretary of State\n\nDate: Monday\, May 20\, 2013\n\nTime: 11:30 a.m. - 1:00 p.m.\n\nLocation: The Atrium at the Granville Arts Center\n\n300 N. Fifth St.\, Garland\, TX 75040  \n\nThe May Luncheon is sponsored by: Richland College Garland Campus
X-ALT-DESC;FMTTYPE=text/html:<p><strong>Hosted by the Dallas County Manufacturers&#39\; Association</strong><br />\n<br />\nSpeaker: Hope Andrade\, Commissioner Representing Employers for the Texas Workforce Commission and former Texas Secretary of State</p>\n\n<p>Date: Monday\, May 20\, 2013<br />\nTime: 11:30 a.m.&nbsp\;- 1:00 p.m.<br />\nLocation: The Atrium at the Granville Arts Center<br />\n300 N. Fifth St.\, Garland\, TX 75040&nbsp\;&nbsp\;</p>\n\n<p>The May Luncheon is sponsored by: <a datafld="0:0" href="http://www.richlandcollege.edu/garlandcampus/">Richland College Garland Campus</a></p>\n
LOCATION:The Atrium at the Granville Arts Center
UID:e.2096.1147
SEQUENCE:3
DTSTAMP:20260421T073705Z
URL:https://network.garlandchamber.com/events/details/monthly-luncheon-may-2013-05-20-2013-1147
END:VEVENT

END:VCALENDAR
