BEGIN:VCALENDAR
VERSION:2.0
PRODID:-//ChamberMaster//Event Calendar 2.0//EN
METHOD:PUBLISH
X-PUBLISHED-TTL:P3D
REFRESH-INTERVAL:P3D
CALSCALE:GREGORIAN
BEGIN:VEVENT
DTSTART:20140519T163000Z
DTEND:20140519T180000Z
X-MICROSOFT-CDO-ALLDAYEVENT:FALSE
SUMMARY:Monthly Luncheon May 2014
DESCRIPTION:
X-ALT-DESC;FMTTYPE=text/html:
LOCATION:The Atrium at the Granville Arts Center
UID:e.2096.1214
SEQUENCE:3
DTSTAMP:20260420T133602Z
URL:https://network.garlandchamber.com/events/details/monthly-luncheon-may-2014-05-19-2014-1214
END:VEVENT

END:VCALENDAR
