BEGIN:VCALENDAR
VERSION:2.0
PRODID:-//ChamberMaster//Event Calendar 2.0//EN
METHOD:PUBLISH
X-PUBLISHED-TTL:P3D
REFRESH-INTERVAL:P3D
CALSCALE:GREGORIAN
BEGIN:VEVENT
DTSTART:20150518T163000Z
DTEND:20150518T180000Z
X-MICROSOFT-CDO-ALLDAYEVENT:FALSE
SUMMARY:Monthly Luncheon May 2015
DESCRIPTION:Speaker:\n\nTopic: \n\nSponsor:
X-ALT-DESC;FMTTYPE=text/html:Speaker:<br>\nTopic:&nbsp\;<br>\nSponsor:&nbsp\;&nbsp\;&nbsp\;&nbsp\;&nbsp\;
LOCATION:The Atrium at the Granville Arts Center
UID:e.2096.2665
SEQUENCE:3
DTSTAMP:20260419T192643Z
URL:https://network.garlandchamber.com/events/details/monthly-luncheon-may-2015-05-18-2015-2665
END:VEVENT

END:VCALENDAR
