BEGIN:VCALENDAR
VERSION:2.0
PRODID:-//ChamberMaster//Event Calendar 2.0//EN
METHOD:PUBLISH
X-PUBLISHED-TTL:P3D
REFRESH-INTERVAL:P3D
CALSCALE:GREGORIAN
BEGIN:VEVENT
DTSTART:20101115T173000Z
DTEND:20101115T190000Z
X-MICROSOFT-CDO-ALLDAYEVENT:FALSE
SUMMARY:Monthly Luncheon November 2010
DESCRIPTION:
X-ALT-DESC;FMTTYPE=text/html:
LOCATION:The Atrium
UID:e.2096.837
SEQUENCE:3
DTSTAMP:20260423T040808Z
URL:https://network.garlandchamber.com/events/details/monthly-luncheon-november-2010-11-15-2010-837
END:VEVENT

END:VCALENDAR
