BEGIN:VCALENDAR
VERSION:2.0
PRODID:-//ChamberMaster//Event Calendar 2.0//EN
METHOD:PUBLISH
X-PUBLISHED-TTL:P3D
REFRESH-INTERVAL:P3D
CALSCALE:GREGORIAN
BEGIN:VEVENT
DTSTART:20131118T171500Z
DTEND:20131118T190000Z
X-MICROSOFT-CDO-ALLDAYEVENT:FALSE
SUMMARY:Monthly Luncheon November 2013
DESCRIPTION:Speaker: TBA\n\nTopic: TBA\n\nDate: Monday\, November 18\, 2013\n\nTime: 11:30 a.m. - 1:00 p.m.\n\nLocation: The Atrium at the Granville Arts Center\n\n300 N. Fifth St.\, Garland\, TX 75040\n\nThe November Luncheon is sponsored by: America's Credit Union
X-ALT-DESC;FMTTYPE=text/html:<p>Speaker:&nbsp\;TBA<br />\nTopic:&nbsp\;TBA<br />\nDate: Monday\, November 18\, 2013<br />\nTime: 11:30 a.m.&nbsp\;- 1:00 p.m.<br />\nLocation: The Atrium at the Granville Arts Center<br />\n300 N. Fifth St.\, Garland\, TX 75040</p>\n\n<p>The November Luncheon is sponsored by: <a datafld="0:0" href="https://www.americascu.org/home/home">America&#39\;s Credit Union</a></p>\n
LOCATION:Garland Cultural Arts Commission\, Inc.
UID:e.2096.1153
SEQUENCE:3
DTSTAMP:20260420T225937Z
URL:https://network.garlandchamber.com/events/details/monthly-luncheon-november-2013-11-18-2013-1153
END:VEVENT

END:VCALENDAR
