BEGIN:VCALENDAR
VERSION:2.0
PRODID:-//ChamberMaster//Event Calendar 2.0//EN
METHOD:PUBLISH
X-PUBLISHED-TTL:P3D
REFRESH-INTERVAL:P3D
CALSCALE:GREGORIAN
BEGIN:VEVENT
DTSTART:20141117T173000Z
DTEND:20141117T190000Z
X-MICROSOFT-CDO-ALLDAYEVENT:FALSE
SUMMARY:Monthly Luncheon November 2014
DESCRIPTION:Sponsor: America's Credit Union\n\nSpeaker: Paul Mayer\, Garland Chamber of Commerce\n\nTopic: Economic Development Update
X-ALT-DESC;FMTTYPE=text/html:Sponsor: America&#39\;s Credit Union<br />\nSpeaker: Paul Mayer\, Garland Chamber of Commerce<br />\nTopic: Economic Development Update&nbsp\;
LOCATION:The Atrium at the Granville Arts Center
UID:e.2096.1220
SEQUENCE:3
DTSTAMP:20260420T045543Z
URL:https://network.garlandchamber.com/events/details/monthly-luncheon-november-2014-11-17-2014-1220
END:VEVENT

END:VCALENDAR
