BEGIN:VCALENDAR
VERSION:2.0
PRODID:-//ChamberMaster//Event Calendar 2.0//EN
METHOD:PUBLISH
X-PUBLISHED-TTL:P3D
REFRESH-INTERVAL:P3D
CALSCALE:GREGORIAN
BEGIN:VEVENT
DTSTART:20151116T173000Z
DTEND:20151116T190000Z
X-MICROSOFT-CDO-ALLDAYEVENT:FALSE
SUMMARY:Monthly Luncheon November 2015
DESCRIPTION:
X-ALT-DESC;FMTTYPE=text/html:
LOCATION:The Atrium at the Granville Arts Center 300 N. Fifth Street Garland\, TX 75040
UID:e.2096.2671
SEQUENCE:3
DTSTAMP:20260419T120455Z
URL:https://network.garlandchamber.com/events/details/monthly-luncheon-november-2015-11-16-2015-2671
END:VEVENT

END:VCALENDAR
