BEGIN:VCALENDAR
VERSION:2.0
PRODID:-//ChamberMaster//Event Calendar 2.0//EN
METHOD:PUBLISH
X-PUBLISHED-TTL:P3D
REFRESH-INTERVAL:P3D
CALSCALE:GREGORIAN
BEGIN:VEVENT
DTSTART:20061030T173000Z
DTEND:20061030T190000Z
X-MICROSOFT-CDO-ALLDAYEVENT:FALSE
SUMMARY:Monthly Luncheon October 2006
DESCRIPTION:Luncheon events are held each month on the last Monday. These events are designed to bring the business community together to hear top businesses and government officials speak on interesting\, informative and educational issues that effect your business. Join us this month to Celebrate Quality Month!
X-ALT-DESC;FMTTYPE=text/html:<div><strong>Luncheon events are held&nbsp\;each&nbsp\;month&nbsp\;on the last Monday. These events are&nbsp\;designed to&nbsp\;bring the business community&nbsp\;together to hear top businesses and&nbsp\;government officials speak on interesting\, informative and educational issues that effect your business.&nbsp\;Join us this month to Celebrate Quality Month!</strong></div>\n\n<div>&nbsp\;</div>\n
LOCATION:The Atrium at the Granville Center
UID:e.2096.327
SEQUENCE:3
DTSTAMP:20260426T001610Z
URL:https://network.garlandchamber.com/events/details/monthly-luncheon-october-2006-10-30-2006-327
END:VEVENT

END:VCALENDAR
