BEGIN:VCALENDAR
VERSION:2.0
PRODID:-//ChamberMaster//Event Calendar 2.0//EN
METHOD:PUBLISH
X-PUBLISHED-TTL:P3D
REFRESH-INTERVAL:P3D
CALSCALE:GREGORIAN
BEGIN:VEVENT
DTSTART:20091026T163000Z
DTEND:20091026T180000Z
X-MICROSOFT-CDO-ALLDAYEVENT:FALSE
SUMMARY:Monthly Luncheon October 2009
DESCRIPTION:***If you register for this event but are unable to attend\, please call by Friday\, October 23rd at 3:00 p.m. to cancel your reservation. Lunch is ordered on Friday for each attendee. If no cancellation is received prior to this date/ time you will still be responsible for your luncheon payment. Thank you for your cooperation!
X-ALT-DESC;FMTTYPE=text/html:<div><font color="#ff0000" size="2">***If you register for this event but are unable to attend\, please call by Friday\, October 23rd at 3:00 p.m. to cancel your reservation. Lunch is ordered on Friday for each attendee. If no cancellation is received prior to this date/ time you will still be responsible for your luncheon payment. Thank you for your cooperation!</font></div>\n
LOCATION:The Atrium
UID:e.2096.638
SEQUENCE:3
DTSTAMP:20260423T205538Z
URL:https://network.garlandchamber.com/events/details/monthly-luncheon-october-2009-10-26-2009-638
END:VEVENT

END:VCALENDAR
