BEGIN:VCALENDAR
VERSION:2.0
PRODID:-//ChamberMaster//Event Calendar 2.0//EN
METHOD:PUBLISH
X-PUBLISHED-TTL:P3D
REFRESH-INTERVAL:P3D
CALSCALE:GREGORIAN
BEGIN:VEVENT
DTSTART:20131028T161500Z
DTEND:20131028T180000Z
X-MICROSOFT-CDO-ALLDAYEVENT:FALSE
SUMMARY:Monthly Luncheon October 2013
DESCRIPTION:Speaker: \n\nMark King\, Chairman\, CEO and President\n\nMicropac Industries\, Inc.\n\n \n\nVaughan Garrett\, VP\, Director of Marketing Communication\n\nGarrett Metal Detectors\n\nJohn Rosenthal\, Director of Plant Operations\n\nHatco\n\n  \n\nTopic: Manufacturing Sustainable Success in Garland\n\n\n\nDate: Monday\, October 28\, 2013\n\nTime: 11:30 a.m. - 1:00 p.m.\n\nLocation: The Atrium at the Granville Arts Center\n\n300 N. Fifth St.\, Garland\, TX 75040\n\nThe October Luncheon is sponsored by: Baylor Medical Center at Garland
X-ALT-DESC;FMTTYPE=text/html:<p><strong>Speaker:&nbsp\;</strong><br />\nMark King\,&nbsp\;Chairman\, CEO and President<br />\nMicropac Industries\, Inc.<br />\n&nbsp\;<br />\nVaughan Garrett\, VP\, Director of Marketing Communication<br />\nGarrett Metal Detectors</p>\n\n<p>John Rosenthal\, Director of Plant Operations<br />\nHatco<br />\n&nbsp\;&nbsp\;<br />\n<strong>Topic:</strong>&nbsp\;Manufacturing Sustainable Success in Garland<br />\n<br />\n<strong>Date:</strong> Monday\, October 28\, 2013<br />\n<strong>Time:</strong> 11:30 a.m.&nbsp\;- 1:00 p.m.<br />\n<strong>Location:</strong> The Atrium at the Granville Arts Center<br />\n300 N. Fifth St.\, Garland\, TX 75040</p>\n\n<p>The October Luncheon is sponsored by: <a datafld="0:0" href="http://www.baylorhealth.com/Garland/Pages/Default.html">Baylor Medical Center at Garland</a></p>\n
LOCATION:Garland Cultural Arts Commission\, Inc.
UID:e.2096.1152
SEQUENCE:3
DTSTAMP:20260421T003939Z
URL:https://network.garlandchamber.com/events/details/monthly-luncheon-october-2013-10-28-2013-1152
END:VEVENT

END:VCALENDAR
