BEGIN:VCALENDAR
VERSION:2.0
PRODID:-//ChamberMaster//Event Calendar 2.0//EN
METHOD:PUBLISH
X-PUBLISHED-TTL:P3D
REFRESH-INTERVAL:P3D
CALSCALE:GREGORIAN
BEGIN:VEVENT
DTSTART:20141027T163000Z
DTEND:20141027T180000Z
X-MICROSOFT-CDO-ALLDAYEVENT:FALSE
SUMMARY:Monthly Luncheon October 2014
DESCRIPTION:Sponsor: Texas Brand Bank\n\nSpeaker: Milano Hats\, KARLEE Company\, Daisy Brand
X-ALT-DESC;FMTTYPE=text/html:<p>Sponsor: Texas Brand Bank<br />\nSpeaker: Milano Hats\, KARLEE Company\, Daisy Brand&nbsp\;<br />\n&nbsp\;</p>\n
LOCATION:The Atrium at the Granville Arts Center
UID:e.2096.1219
SEQUENCE:3
DTSTAMP:20260420T060925Z
URL:https://network.garlandchamber.com/events/details/monthly-luncheon-october-2014-10-27-2014-1219
END:VEVENT

END:VCALENDAR
