BEGIN:VCALENDAR
VERSION:2.0
PRODID:-//ChamberMaster//Event Calendar 2.0//EN
METHOD:PUBLISH
X-PUBLISHED-TTL:P3D
REFRESH-INTERVAL:P3D
CALSCALE:GREGORIAN
BEGIN:VEVENT
DTSTART:20060925T050000Z
DTEND:20060925T050000Z
X-MICROSOFT-CDO-ALLDAYEVENT:FALSE
SUMMARY:Monthly Luncheon September 2006
DESCRIPTION:September Monthly Luncheon
X-ALT-DESC;FMTTYPE=text/html:September Monthly Luncheon
LOCATION:The Atrium at the Granville Center
UID:e.2096.1616
SEQUENCE:3
DTSTAMP:20260426T031634Z
URL:https://network.garlandchamber.com/events/details/monthly-luncheon-september-2006-09-25-2006-1616
END:VEVENT

END:VCALENDAR
