BEGIN:VCALENDAR
VERSION:2.0
PRODID:-//ChamberMaster//Event Calendar 2.0//EN
METHOD:PUBLISH
X-PUBLISHED-TTL:P3D
REFRESH-INTERVAL:P3D
CALSCALE:GREGORIAN
BEGIN:VEVENT
DTSTART:20130930T161500Z
DTEND:20130930T180000Z
X-MICROSOFT-CDO-ALLDAYEVENT:FALSE
SUMMARY:Monthly Luncheon September 2013
DESCRIPTION:Speaker: Dr. Bob Morrison\, Superintendent\, Garland Independent School District\n\nTopic: State of the District\n\nDate: Monday\, September 30\, 2013\n\nTime: 11:30 a.m. - 1:00 p.m.\n\nLocation: The Atrium at the Granville Arts Center\n\n300 N. Fifth St.\, Garland\, TX 75040\n\nThe September Luncheon is sponsored by: BEST Education Foundation
X-ALT-DESC;FMTTYPE=text/html:<p>Speaker:&nbsp\;Dr. Bob Morrison\, Superintendent\, Garland Independent School District<br />\nTopic:&nbsp\;State of the District<br />\nDate: Monday\, September 30\, 2013<br />\nTime: 11:30 a.m.&nbsp\;- 1:00 p.m.<br />\nLocation: The Atrium at the Granville Arts Center<br />\n300 N. Fifth St.\, Garland\, TX 75040</p>\n\n<p>The September Luncheon is sponsored by: <a datafld="0:0" href="http://besteducationfoundation.org/">BEST Education Foundation</a></p>\n
LOCATION:Garland Cultural Arts Commission\, Inc.
UID:e.2096.1151
SEQUENCE:3
DTSTAMP:20260421T032348Z
URL:https://network.garlandchamber.com/events/details/monthly-luncheon-september-2013-09-30-2013-1151
END:VEVENT

END:VCALENDAR
