BEGIN:VCALENDAR
VERSION:2.0
PRODID:-//ChamberMaster//Event Calendar 2.0//EN
METHOD:PUBLISH
X-PUBLISHED-TTL:P3D
REFRESH-INTERVAL:P3D
CALSCALE:GREGORIAN
BEGIN:VEVENT
DTSTART:20140929T163000Z
DTEND:20140929T180000Z
X-MICROSOFT-CDO-ALLDAYEVENT:FALSE
SUMMARY:Monthly Luncheon September 2014
DESCRIPTION:Sponsor: BEST Education Foundation \n\nSpeaker: Dr. Bob Morrison\, Superintendent\, Garland ISD\n\nTopic: "State of the District"
X-ALT-DESC;FMTTYPE=text/html:<p>Sponsor: BEST Education Foundation&nbsp\;<br />\nSpeaker: Dr. Bob Morrison\, Superintendent\, Garland ISD<br />\nTopic: &quot\;State of the District&quot\;<br />\n&nbsp\;</p>\n
LOCATION:The Atrium at the Granville Arts Center
UID:e.2096.1218
SEQUENCE:3
DTSTAMP:20260420T074920Z
URL:https://network.garlandchamber.com/events/details/monthly-luncheon-september-2014-09-29-2014-1218
END:VEVENT

END:VCALENDAR
