BEGIN:VCALENDAR
VERSION:2.0
PRODID:-//ChamberMaster//Event Calendar 2.0//EN
METHOD:PUBLISH
X-PUBLISHED-TTL:P3D
REFRESH-INTERVAL:P3D
CALSCALE:GREGORIAN
BEGIN:VEVENT
DTSTART:20150928T163000Z
DTEND:20150928T180000Z
X-MICROSOFT-CDO-ALLDAYEVENT:FALSE
SUMMARY:Monthly Luncheon September 2015
DESCRIPTION:Speaker: \n\nTopic: \n\nSponsor:
X-ALT-DESC;FMTTYPE=text/html:Speaker:&nbsp\;<br />\nTopic:&nbsp\;<br />\nSponsor:&nbsp\;
LOCATION:The Atrium at the Granville Arts Center
UID:e.2096.2669
SEQUENCE:3
DTSTAMP:20260419T131753Z
URL:https://network.garlandchamber.com/events/details/monthly-luncheon-september-2015-09-28-2015-2669
END:VEVENT

END:VCALENDAR
