BEGIN:VCALENDAR
VERSION:2.0
PRODID:-//ChamberMaster//Event Calendar 2.0//EN
METHOD:PUBLISH
X-PUBLISHED-TTL:P3D
REFRESH-INTERVAL:P3D
CALSCALE:GREGORIAN
BEGIN:VEVENT
DTSTART:20091017T160000Z
DTEND:20091017T190000Z
X-MICROSOFT-CDO-ALLDAYEVENT:FALSE
SUMMARY:Moore Style...Just For Men Salon Fish Fry
DESCRIPTION:
X-ALT-DESC;FMTTYPE=text/html:
LOCATION:Moore Style...Just For Men Salon
UID:e.2096.717
SEQUENCE:3
DTSTAMP:20260423T205922Z
URL:https://network.garlandchamber.com/events/details/moore-style-just-for-men-salon-fish-fry-10-17-2009-717
END:VEVENT

END:VCALENDAR
