BEGIN:VCALENDAR
VERSION:2.0
PRODID:-//ChamberMaster//Event Calendar 2.0//EN
METHOD:PUBLISH
X-PUBLISHED-TTL:P3D
REFRESH-INTERVAL:P3D
CALSCALE:GREGORIAN
BEGIN:VEVENT
DTSTART:20120511T160000Z
DTEND:20120511T180000Z
X-MICROSOFT-CDO-ALLDAYEVENT:FALSE
SUMMARY:Mothers Day Luncheon with Winter's Park
DESCRIPTION:Winter's Park Assisted Living & Memory Care invites you to join them for a FREE Mothers Day Luncheon on Friday\, May 11\, 2012 from 11 a.m. to 1 p.m. Let them help you show that special lady in your life how much you love her. The event is come and go. Please RSVP by May 7 to (972) 530-4107. Please indicate your time of arrival and number of attendees.
X-ALT-DESC;FMTTYPE=text/html:<DIV style="FONT-FAMILY: Arial">Winter's Park Assisted Living &amp\; Memory Care invites you to join them for a FREE Mothers Day Luncheon on Friday\, May 11\, 2012 from 11 a.m. to 1 p.m.</DIV><DIV style="FONT-FAMILY: Arial">&nbsp\;</DIV><DIV style="FONT-FAMILY: Arial">Let them help you show that special lady in your life how much you love her. The event is come and go. Please RSVP by May 7 to (972) 530-4107. Please indicate your time of arrival and number of attendees.</DIV>
LOCATION:Winters Park Assisted Living and Memory Care
UID:e.2096.1037
SEQUENCE:3
DTSTAMP:20260422T023245Z
URL:https://network.garlandchamber.com/events/details/mothers-day-luncheon-with-winter-s-park-05-11-2012-1037
END:VEVENT

END:VCALENDAR
