BEGIN:VCALENDAR
VERSION:2.0
PRODID:-//ChamberMaster//Event Calendar 2.0//EN
METHOD:PUBLISH
X-PUBLISHED-TTL:P3D
REFRESH-INTERVAL:P3D
CALSCALE:GREGORIAN
BEGIN:VEVENT
DTSTART:20121213T140000Z
DTEND:20121216T193000Z
X-MICROSOFT-CDO-ALLDAYEVENT:FALSE
SUMMARY:Mount Hebron Volunteering Opportunities
DESCRIPTION:Join the members of Mount Hebron Missionary Baptist Church of Garland in feeding the homeless\, in South Dallas\, Thursday\, Dec. 13 from 8 a.m. to 1:30 p.m. The meals will be served at Cornerstone Baptist Church\, located at 1819 Martin Luther King Blvd. Volunteers are needed. If you would like to help out\, or for more information\, call Patra Berry at (972) 276-5218\, email socialmedia@onthemount.org or go to www.onthemount.org. Mount Hebron Missionary Baptist Church\, located at 1233 Highway 66\, in Garland\, will be giving away food baskets to those in need\, Dec. 17\, 2012. If you or a family you know is in need\, please contact the church before Dec. 14. For more informations on how you can donate or volunteer to deliver baskets\, call Cedric Wheaton at (972) 276-5218. Mount Hebron Missionary Baptist Church and Prison Fellowship Ministries have partnered with the Angel Tree Program to serve the needs of children in the Garland\, Rowlett and Mesquite areas. More than 300 children with an incarcerated parent will receive Christmas gifts. Please consider picking up the name of a child from the church\, and providing your gift for them before Dec. 16\, 2012. In addition\, volunteers are needed to make phone calls and to help distribute gifts to the Angels on Dec. 23. For more information\, call Samara Samuel at (214) 454-3193 or Cedric Wheaton at (972) 276-5218.
X-ALT-DESC;FMTTYPE=text/html:<DIV style="FONT-FAMILY: Arial">Join the members of Mount Hebron Missionary Baptist Church of Garland in feeding the homeless\, in South Dallas\, Thursday\, Dec. 13 from 8 a.m. to 1:30 p.m. The meals will be served at Cornerstone Baptist Church\, located at 1819 Martin Luther King Blvd. Volunteers are needed. If you would like to help out\, or for more information\, call Patra Berry at (972) 276-5218\, email <A href="mailto:socialmedia@onthemount.org">socialmedia@onthemount.org</A> or go to <A href="http://www.onthemount.org">www.onthemount.org</A>.</DIV><DIV style="FONT-FAMILY: Arial">&nbsp\;</DIV><DIV style="FONT-FAMILY: Arial">Mount Hebron Missionary Baptist Church\, located at 1233 Highway 66\, in Garland\, will be giving away food baskets to those in need\, Dec. 17\, 2012. If you or a family you know is in need\, please contact the church before Dec. 14. For more informations on how you can donate or volunteer to deliver baskets\, call Cedric Wheaton at (972) 276-5218.</DIV><DIV style="FONT-FAMILY: Arial">&nbsp\;</DIV><DIV style="FONT-FAMILY: Arial">Mount Hebron Missionary Baptist Church and Prison Fellowship Ministries have partnered with the Angel Tree Program to serve the needs of children in the Garland\, Rowlett and Mesquite areas. More than 300 children with an incarcerated parent will receive Christmas gifts. Please consider picking up the name of a child from the church\, and providing your gift for them before Dec. 16\, 2012. In addition\, volunteers are needed to make phone calls and to help distribute gifts to the Angels on Dec. 23. For more information\, call Samara Samuel at (214) 454-3193 or Cedric Wheaton at (972) 276-5218.</DIV>
LOCATION:Mt. Hebron Baptist Church
UID:e.2096.1116
SEQUENCE:3
DTSTAMP:20260421T150133Z
URL:https://network.garlandchamber.com/events/details/mount-hebron-volunteering-opportunities-12-13-2012-1116
END:VEVENT

END:VCALENDAR
