BEGIN:VCALENDAR
VERSION:2.0
PRODID:-//ChamberMaster//Event Calendar 2.0//EN
METHOD:PUBLISH
X-PUBLISHED-TTL:P3D
REFRESH-INTERVAL:P3D
CALSCALE:GREGORIAN
BEGIN:VEVENT
DTSTART:20080530T180000Z
DTEND:20080530T210000Z
X-MICROSOFT-CDO-ALLDAYEVENT:FALSE
SUMMARY:My Storage Space Blood Drive Event
DESCRIPTION:
X-ALT-DESC;FMTTYPE=text/html:
LOCATION:My Storage Space
UID:e.2096.540
SEQUENCE:3
DTSTAMP:20260424T200434Z
URL:https://network.garlandchamber.com/events/details/my-storage-space-blood-drive-event-05-30-2008-540
END:VEVENT

END:VCALENDAR
